BEGIN:VCALENDAR
VERSION:2.0
PRODID:-//https://rocknchoirs.com///NONSGML kigkonsult.se iCalcreator 2.10.15//
METHOD:PUBLISH
BEGIN:VEVENT
UID:20260420T110029CEST-8853vj3FwB@https://rocknchoirs.com/
DTSTAMP:20260420T090029Z
DESCRIPTION:¡COMPRA TUS ENTRADAS AQUÍ! https://rocknchoirs.com/eventos/even
 to/101-barcelona-rock-choir-en-el-sants-teatre
DTSTART:20260207T170000Z
DTEND:20260207T190000Z
LOCATION:Sants Teatre\, Barcelona (Carrer d'Antoni de Capmany 72\, 08014\, 
 Sants\, Barcelona\, Catalunya)
SUMMARY:Barcelona Rock Choir en el Sants Teatre
URL:https://rocknchoirs.com/eventos/evento/101-barcelona-rock-choir-en-el-s
 ants-teatre
END:VEVENT
END:VCALENDAR
